BEGIN:VCALENDAR
VERSION:2.0
PRODID:-//Top Départ - ECPv6.4.0.1//NONSGML v1.0//EN
CALSCALE:GREGORIAN
METHOD:PUBLISH
X-ORIGINAL-URL:https://www.topdepartmag.fr
X-WR-CALDESC:évènements pour Top Départ
REFRESH-INTERVAL;VALUE=DURATION:PT1H
X-Robots-Tag:noindex
X-PUBLISHED-TTL:PT1H
BEGIN:VTIMEZONE
TZID:Europe/Paris
BEGIN:DAYLIGHT
TZOFFSETFROM:+0100
TZOFFSETTO:+0200
TZNAME:CEST
DTSTART:20230326T010000
END:DAYLIGHT
BEGIN:STANDARD
TZOFFSETFROM:+0200
TZOFFSETTO:+0100
TZNAME:CET
DTSTART:20231029T010000
END:STANDARD
END:VTIMEZONE
BEGIN:VEVENT
DTSTART;TZID=Europe/Paris:20231012T090000
DTEND;TZID=Europe/Paris:20231012T180000
DTSTAMP:20260423T051352
CREATED:20230823T133419Z
LAST-MODIFIED:20231010T092317Z
UID:5735-1697101200-1697133600@www.topdepartmag.fr
SUMMARY:Je m'installe en bord de mer
DESCRIPTION:Le Jeudi 12 octobre\, les entreprises du Calvados et de la Manche viennent à votre rencontre sur Paris\, à la Fabrique Marais\, dans le 3e arrondissement. Venez découvrir les plus de 16 000 offres d’emplois et le cadre de vie proposés par ces deux départements normands en bord de mer. \nEntrée gratuite\, sur inscription.
URL:https://www.topdepartmag.fr/evenement/je-minstalle-en-bord-de-mer/
CATEGORIES:Jobdating
ATTACH;FMTTYPE=image/jpeg:https://www.topdepartmag.fr/wp-content/uploads/2023/08/kit-media-2023_1920x720.jpg
END:VEVENT
END:VCALENDAR